BEGIN:VCALENDAR
VERSION:2.0
PRODID:-//Plone.org//NONSGML plone.app.event//EN
X-WR-TIMEZONE:Pacific/Auckland
BEGIN:VEVENT
SUMMARY:Winchester Swap Meet
DTSTART;VALUE=DATE-TIME:20140404T183000Z
DTEND;VALUE=DATE-TIME:20140405T050000Z
DTSTAMP;VALUE=DATE-TIME:20260425T044439Z
UID:7159ea93160e48f4b123110191461037
CONTACT:Grant Mehrtens\, 03 684 9094\, themehrtens@xtra.co.nz
CREATED;VALUE=DATE-TIME:20140218T060225Z
DESCRIPTION:This is NOT a CMSNZ event
LAST-MODIFIED;VALUE=DATE-TIME:20140403T202255Z
LOCATION:Winchester A&P Showgrounds\, South Canterbury
URL:https://www.cmsnz.org.nz/events/winchester-swap-meet
END:VEVENT
END:VCALENDAR
