BEGIN:VCALENDAR
VERSION:2.0
PRODID:-//Plone.org//NONSGML plone.app.event//EN
X-WR-TIMEZONE:Pacific/Auckland
BEGIN:VEVENT
SUMMARY:West Coast Weekend 2014
DTSTART;VALUE=DATE-TIME:20140725T040000Z
DTEND;VALUE=DATE-TIME:20140727T040000Z
DTSTAMP;VALUE=DATE-TIME:20260425T030404Z
UID:c35bbb7d27b64d8fac938d207a473997
CATEGORIES:Weekend event
CONTACT:Mel & Gill Peters\, 03 337 4144\, petersmg@ihug.co.nz
CREATED;VALUE=DATE-TIME:20140525T224139Z
DESCRIPTION:A weekend away\, exploring the West Coast in our classic cars 
 with great company - sounds like another great Classic Motoring Society ev
 ent!
LAST-MODIFIED;VALUE=DATE-TIME:20140526T004330Z
LOCATION:Westport
URL:https://www.cmsnz.org.nz/events/west-coast-weekend-2014
END:VEVENT
END:VCALENDAR
