BEGIN:VCALENDAR
VERSION:2.0
PRODID:-//Plone.org//NONSGML plone.app.event//EN
X-WR-TIMEZONE:Pacific/Auckland
BEGIN:VEVENT
SUMMARY:We're invited to MG Track Day
DTSTART;VALUE=DATE-TIME:20130405T200000Z
DTEND;VALUE=DATE-TIME:20130406T040000Z
DTSTAMP;VALUE=DATE-TIME:20260425T045225Z
UID:2c010990e5cb4b61b0f18fc432aaf76a
CONTACT:Graeme Sharp\, 021 395 944\, sharpish@clear.net.nz
CREATED;VALUE=DATE-TIME:20130401T065652Z
DESCRIPTION:This is NOT a CMSNZ event but the Canterbury MG Car Club has b
 een kind enough to invite us to join them
LAST-MODIFIED;VALUE=DATE-TIME:20130401T065802Z
LOCATION:Ruapuna\, Christchurch
URL:https://www.cmsnz.org.nz/events/were-invited-to-mg-track-day
END:VEVENT
END:VCALENDAR
