BEGIN:VCALENDAR
VERSION:2.0
PRODID:-//Plone.org//NONSGML plone.app.event//EN
X-WR-TIMEZONE:Pacific/Auckland
BEGIN:VEVENT
SUMMARY:We're 21 Years Old
DTSTART;VALUE=DATE-TIME:20160305T210000Z
DTEND;VALUE=DATE-TIME:20160306T030000Z
DTSTAMP;VALUE=DATE-TIME:20260425T030443Z
UID:1d777f92c59e4d14a3ca24bac7c6ba12
CREATED;VALUE=DATE-TIME:20151130T044153Z
DESCRIPTION:Unbelievably\, the Classic Motoring Society has reached the mi
 lestone of being 21 and its time to celebrate
LAST-MODIFIED;VALUE=DATE-TIME:20151130T044159Z
LOCATION:Christchurch
URL:https://www.cmsnz.org.nz/events/were-21-years-old
END:VEVENT
END:VCALENDAR
