BEGIN:VCALENDAR
VERSION:2.0
PRODID:-//Plone.org//NONSGML plone.app.event//EN
X-WR-TIMEZONE:Pacific/Auckland
BEGIN:VEVENT
SUMMARY:Vintage Country Fair
DTSTART;VALUE=DATE-TIME:20110325T200000Z
DTEND;VALUE=DATE-TIME:20110327T030000Z
DTSTAMP;VALUE=DATE-TIME:20260425T030555Z
UID:bc9f68447d97044758d9077da082a423
CREATED;VALUE=DATE-TIME:20110214T205205Z
DESCRIPTION:The Vintage Country Fair is run by the Canterbury Steam Preser
 vation Society\, the Canterbury Branch of VCC and the NZ Vintage Machinery
  Club - Canterbury so will have something to interest everyone.
LAST-MODIFIED;VALUE=DATE-TIME:20110309T204403Z
LOCATION:McLeans Island\, Christchurch
URL:https://www.cmsnz.org.nz/events/vintage-country-fair
END:VEVENT
END:VCALENDAR
