BEGIN:VCALENDAR
VERSION:2.0
PRODID:-//Plone.org//NONSGML plone.app.event//EN
X-WR-TIMEZONE:Pacific/Auckland
BEGIN:VEVENT
SUMMARY:Twizel Lakeside Auto Show
DTSTART;VALUE=DATE-TIME:20160109T000000Z
DTEND;VALUE=DATE-TIME:20160109T030000Z
DTSTAMP;VALUE=DATE-TIME:20260425T044935Z
UID:c4692895b9d94127afef44c9e830fa0b
CREATED;VALUE=DATE-TIME:20160106T224508Z
DESCRIPTION:This is NOT a Classic Motoring Society event but we thought yo
 u may be interested in it
LAST-MODIFIED;VALUE=DATE-TIME:20160106T230514Z
LOCATION:South Island Rowing Complex\, Twizel
URL:https://www.cmsnz.org.nz/events/twizel-lakeside-auto-show
END:VEVENT
END:VCALENDAR
