BEGIN:VCALENDAR
VERSION:2.0
PRODID:-//Plone.org//NONSGML plone.app.event//EN
X-WR-TIMEZONE:Pacific/Auckland
BEGIN:VEVENT
SUMMARY:Twin Rivers Motoring Extravaganza 2015
DTSTART;VALUE=DATE-TIME:20150307T213000Z
DTEND;VALUE=DATE-TIME:20150308T020000Z
DTSTAMP;VALUE=DATE-TIME:20260425T030604Z
UID:5a0e2a9d7cb5428e96bb4b568877652b
CONTACT:Graeme McVicar\, 027 534 1330\, https://www.facebook.com/TwinRiver
 sCarParade?fref=ts
CREATED;VALUE=DATE-TIME:20150216T021147Z
DESCRIPTION:This is NOT a Classic Motoring Society of NZ event. It is run 
 by the Avonhead Rotary Club.
LAST-MODIFIED;VALUE=DATE-TIME:20150304T064538Z
LOCATION:A&P Showgrounds (Curletts Road)\, Christchurch
URL:https://www.cmsnz.org.nz/events/twin-rivers-motoring-extravaganza-2015
END:VEVENT
END:VCALENDAR
