BEGIN:VCALENDAR
VERSION:2.0
PRODID:-//Plone.org//NONSGML plone.app.event//EN
X-WR-TIMEZONE:Pacific/Auckland
BEGIN:VEVENT
SUMMARY:Twin Rivers Classic Car Parade 2011 CANCELLED
DTSTART;VALUE=DATE-TIME:20110312T213000Z
DTEND;VALUE=DATE-TIME:20110313T030000Z
DTSTAMP;VALUE=DATE-TIME:20260425T030614Z
UID:6b1f7eed55f1f2f3ed9808f0dfae1b33
CONTACT:John Soundy\, 03-358 4478\, johnsoundy@xtra.co.nz
CREATED;VALUE=DATE-TIME:20101205T201529Z
DESCRIPTION:Whilst the Twin Rivers Parade is no longer a Classic Motoring 
 Society event\, we thoroughly recommend taking part in it\, sharing your c
 lassic vehicle with the world and raising funds for the Child Cancer Found
 ation. Plus its a chance to catch up with all your fellow classic motorist
 s!
LAST-MODIFIED;VALUE=DATE-TIME:20110309T202416Z
LOCATION:Christchurch
URL:https://www.cmsnz.org.nz/events/twin-rivers-classic-car-parade-2011
END:VEVENT
END:VCALENDAR
