BEGIN:VCALENDAR
VERSION:2.0
PRODID:-//Plone.org//NONSGML plone.app.event//EN
X-WR-TIMEZONE:Pacific/Auckland
BEGIN:VEVENT
SUMMARY:Paul Kelly Motor Company Twin Rivers Classic Car Parade & Display 
 2013
DTSTART;VALUE=DATE-TIME:20130302T213000Z
DTEND;VALUE=DATE-TIME:20130303T020000Z
DTSTAMP;VALUE=DATE-TIME:20260425T045036Z
UID:b85585ec331441db96413219c87d9c13
CONTACT:Graeme McVicar\, 0275 341 330\, gmcmi.chch.nz@xtra.co.nz\, https:/
 /www.facebook.com/TwinRiversCarParade
CREATED;VALUE=DATE-TIME:20120805T093729Z
DESCRIPTION:This is NOT a Classic Motoring Society event but it is one tha
 t we enjoy! We now have updated information on the Twin Rivers Parade for 
 2013.
LAST-MODIFIED;VALUE=DATE-TIME:20130124T201101Z
LOCATION:Christchurch
URL:https://www.cmsnz.org.nz/events/twin-rivers-charity-parade-2013
END:VEVENT
END:VCALENDAR
