BEGIN:VCALENDAR
VERSION:2.0
PRODID:-//Plone.org//NONSGML plone.app.event//EN
X-WR-TIMEZONE:Pacific/Auckland
BEGIN:VEVENT
SUMMARY:Twin Rivers 2014
DTSTART;VALUE=DATE-TIME:20140308T213000Z
DTEND;VALUE=DATE-TIME:20140309T030000Z
DTSTAMP;VALUE=DATE-TIME:20260425T011242Z
UID:7fbd3e62139e408abb064b378029a3cc
CONTACT:Graeme McVicar\, 0275 341 330\, https://www.facebook.com/TwinRiver
 sCarParade
CREATED;VALUE=DATE-TIME:20131024T221044Z
DESCRIPTION:This is NOT a CMSNZ event but is a classic motoring occasion t
 hat is well worth attending. The event has been run for the last 10 years 
 by the Rotary Club of Avonhead.
LAST-MODIFIED;VALUE=DATE-TIME:20131204T031109Z
LOCATION:Christchurch
URL:https://www.cmsnz.org.nz/events/twin-rivers-2014
END:VEVENT
END:VCALENDAR
