BEGIN:VCALENDAR
VERSION:2.0
PRODID:-//Plone.org//NONSGML plone.app.event//EN
X-WR-TIMEZONE:Pacific/Auckland
BEGIN:VEVENT
SUMMARY:Trying to Trial - August Run
DTSTART;VALUE=DATE-TIME:20120804T223000Z
DTEND;VALUE=DATE-TIME:20120805T030000Z
DTSTAMP;VALUE=DATE-TIME:20260425T005217Z
UID:1fd24671b78a4df8b1a09e9d72299695
CATEGORIES:Monthly Run
CONTACT:Graeme Sharp\, 021 395 944\, sharpish@clear.net.nz
CREATED;VALUE=DATE-TIME:20120625T023257Z
DESCRIPTION:Ever wondered what participating in a car trial would be like?
  Come and join the Classic Motoring Society's August Run for a taster.
LAST-MODIFIED;VALUE=DATE-TIME:20120625T030252Z
LOCATION:Christchurch start
URL:https://www.cmsnz.org.nz/events/trying-to-trial-august-run
END:VEVENT
END:VCALENDAR
