BEGIN:VCALENDAR
VERSION:2.0
PRODID:-//Plone.org//NONSGML plone.app.event//EN
X-WR-TIMEZONE:Pacific/Auckland
BEGIN:VEVENT
SUMMARY:The 2017 Alpine Tour
DTSTART;VALUE=DATE:20170915
DTEND;VALUE=DATE:20170919
DTSTAMP;VALUE=DATE-TIME:20260425T061145Z
UID:02585593f09a45e0bd1762fc4545a8d3
ATTENDEE;CN="Everyone welcome";ROLE=REQ-PARTICIPANT:Everyone welcome
CONTACT:G1 or G2\, 021 395 944\, sharpish@clear.net.nz
CREATED;VALUE=DATE-TIME:20170321T031421Z
DESCRIPTION:By the time you read this the two Graeme’s\, G1 and G2 will 
 have finished plotting the 2017 Alpine Tour.
LAST-MODIFIED;VALUE=DATE-TIME:20170330T225809Z
LOCATION:Intended starting point is Fairlie
URL:https://www.cmsnz.org.nz/events/the-2017-alpine-tour
END:VEVENT
END:VCALENDAR
