BEGIN:VCALENDAR
VERSION:2.0
PRODID:-//Plone.org//NONSGML plone.app.event//EN
X-WR-TIMEZONE:Pacific/Auckland
BEGIN:VEVENT
SUMMARY:Tassie Tour 2009
DTSTART;VALUE=DATE-TIME:20091029T193000Z
DTEND;VALUE=DATE-TIME:20091115T050000Z
DTSTAMP;VALUE=DATE-TIME:20260425T011455Z
UID:1a4d9da4b13b37f1c968cd8395ea7ced
CONTACT:Graeme Sharp\, 021 395 944\, sharpish@clear.net.nz
CREATED;VALUE=DATE-TIME:20081218T223326Z
DESCRIPTION:Once again we're going offshore for an Australian adventure.  
 The Tassie Tour is a similar style event to the Victorian Odyssey we ran i
 n 2001 where participants hired sports cars and adventured their way aroun
 d Victoria\, Australia.
LAST-MODIFIED;VALUE=DATE-TIME:20081218T231534Z
LOCATION:Tasmania\, Australia
URL:https://www.cmsnz.org.nz/events/tassie-tour-2009
END:VEVENT
END:VCALENDAR
