BEGIN:VCALENDAR
VERSION:2.0
PRODID:-//Plone.org//NONSGML plone.app.event//EN
X-WR-TIMEZONE:Pacific/Auckland
BEGIN:VEVENT
SUMMARY:Sunday Run - Pork Pie
DTSTART;TZID=Pacific/Auckland;VALUE=DATE-TIME:20170416T090000
DTSTAMP;VALUE=DATE-TIME:20260425T023739Z
UID:462a00a791db4a448b933547dcd47f13
ATTENDEE;CN="Everyone welcome";ROLE=REQ-PARTICIPANT:Everyone welcome
CREATED;VALUE=DATE-TIME:20170320T000240Z
DESCRIPTION:Pork Pie run from Kaitaia – Invercargill in Christchurch.
LAST-MODIFIED;VALUE=DATE-TIME:20170320T000256Z
URL:https://www.cmsnz.org.nz/events/sunday-run-pork-pie
END:VEVENT
BEGIN:VTIMEZONE
TZID:Pacific/Auckland
X-LIC-LOCATION:Pacific/Auckland
BEGIN:STANDARD
DTSTART;VALUE=DATE-TIME:20170402T020000
TZNAME:NZST
TZOFFSETFROM:+1300
TZOFFSETTO:+1200
END:STANDARD
END:VTIMEZONE
END:VCALENDAR
