BEGIN:VCALENDAR
VERSION:2.0
PRODID:-//Plone.org//NONSGML plone.app.event//EN
X-WR-TIMEZONE:Pacific/Auckland
BEGIN:VEVENT
SUMMARY:Sunday Run - Ashburton
DTSTART;TZID=Pacific/Auckland;VALUE=DATE-TIME:20170507T090000
DTSTAMP;VALUE=DATE-TIME:20260425T030453Z
UID:2ae7cb6c7b814a79a14c450a2a8774e2
ATTENDEE;CN="Everyone welcome";ROLE=REQ-PARTICIPANT:Everyone welcome
CREATED;VALUE=DATE-TIME:20170320T000408Z
DESCRIPTION:We will again be attending the Wheels Week Event in Ashburton.
LAST-MODIFIED;VALUE=DATE-TIME:20170320T000435Z
URL:https://www.cmsnz.org.nz/events/sunday-run-ashburton
END:VEVENT
BEGIN:VTIMEZONE
TZID:Pacific/Auckland
X-LIC-LOCATION:Pacific/Auckland
BEGIN:STANDARD
DTSTART;VALUE=DATE-TIME:20170402T020000
TZNAME:NZST
TZOFFSETFROM:+1300
TZOFFSETTO:+1200
END:STANDARD
END:VTIMEZONE
END:VCALENDAR
