BEGIN:VCALENDAR
VERSION:2.0
PRODID:-//Plone.org//NONSGML plone.app.event//EN
X-WR-TIMEZONE:Pacific/Auckland
BEGIN:VEVENT
SUMMARY:Sunday Run - April 9th
DTSTART;TZID=Pacific/Auckland;VALUE=DATE-TIME:20170409T100000
DTSTAMP;VALUE=DATE-TIME:20260425T030417Z
UID:c665eb4823f444ee95dfd86ab7819455
ATTENDEE;CN="Everyone welcome";ROLE=REQ-PARTICIPANT:Everyone welcome
CREATED;VALUE=DATE-TIME:20170319T235226Z
DESCRIPTION:We will have a combined outing with the MX5 club.
LAST-MODIFIED;VALUE=DATE-TIME:20170319T235237Z
URL:https://www.cmsnz.org.nz/events/sunday-run-april-9th
END:VEVENT
BEGIN:VTIMEZONE
TZID:Pacific/Auckland
X-LIC-LOCATION:Pacific/Auckland
BEGIN:STANDARD
DTSTART;VALUE=DATE-TIME:20170402T020000
TZNAME:NZST
TZOFFSETFROM:+1300
TZOFFSETTO:+1200
END:STANDARD
END:VTIMEZONE
END:VCALENDAR
