BEGIN:VCALENDAR
VERSION:2.0
PRODID:-//Plone.org//NONSGML plone.app.event//EN
X-WR-TIMEZONE:Pacific/Auckland
BEGIN:VEVENT
SUMMARY:Summer Sojourn 2015
DTSTART;VALUE=DATE-TIME:20150219T211500Z
DTEND;VALUE=DATE-TIME:20150222T030000Z
DTSTAMP;VALUE=DATE-TIME:20260425T023029Z
UID:2eb61534700d419587c687fb1b55ab26
CATEGORIES:Weekend event
CONTACT:Mel & Gill Peters\, 03 337 4144\, petersmg@ihug.co.nz
CREATED;VALUE=DATE-TIME:20150125T214602Z
DESCRIPTION:Looking for a summer weekend away in your classic car? This co
 uld be it.
LAST-MODIFIED;VALUE=DATE-TIME:20150125T220102Z
LOCATION:Christchurch - Blenheim - Greymouth - Springfield
URL:https://www.cmsnz.org.nz/events/summer-sojourn-2015
END:VEVENT
END:VCALENDAR
