BEGIN:VCALENDAR
VERSION:2.0
PRODID:-//Plone.org//NONSGML plone.app.event//EN
X-WR-TIMEZONE:Pacific/Auckland
BEGIN:VEVENT
SUMMARY:Springtime September 2011
DTSTART;VALUE=DATE-TIME:20110903T223000Z
DTEND;VALUE=DATE-TIME:20110904T040000Z
DTSTAMP;VALUE=DATE-TIME:20260425T042351Z
UID:881b46e51a9882df3613c22bded568fa
CATEGORIES:Monthly Run
CONTACT:Mel & Gill Peters\, 03-337 4144\, petersmg@ihug.co.nz
CREATED;VALUE=DATE-TIME:20110508T232019Z
DESCRIPTION:The Classic Motoring Society's regular monthly run which will 
 celebrate the return of daffodils and other spring features.
LAST-MODIFIED;VALUE=DATE-TIME:20110829T204458Z
LOCATION:North Canterbury
URL:https://www.cmsnz.org.nz/events/springtime-september-2011
END:VEVENT
END:VCALENDAR
