BEGIN:VCALENDAR
VERSION:2.0
PRODID:-//Plone.org//NONSGML plone.app.event//EN
X-WR-TIMEZONE:Pacific/Auckland
BEGIN:VEVENT
SUMMARY:Springing into September 2014
DTSTART;VALUE=DATE-TIME:20140906T223000Z
DTEND;VALUE=DATE-TIME:20140907T043000Z
DTSTAMP;VALUE=DATE-TIME:20260425T025801Z
UID:522af227a28e41e19ca3cf10c6837e3d
CATEGORIES:Monthly Run
CREATED;VALUE=DATE-TIME:20140730T043635Z
DESCRIPTION:Our usual monthly Sunday run. You don't have to be a member of
  CMSNZ to join us
LAST-MODIFIED;VALUE=DATE-TIME:20140730T043642Z
LOCATION:Christchurch
URL:https://www.cmsnz.org.nz/events/springing-into-september-2014
END:VEVENT
END:VCALENDAR
