BEGIN:VCALENDAR
VERSION:2.0
PRODID:-//Plone.org//NONSGML plone.app.event//EN
X-WR-TIMEZONE:Pacific/Auckland
BEGIN:VEVENT
SUMMARY:Spring into September 2012
DTSTART;VALUE=DATE-TIME:20120901T223000Z
DTEND;VALUE=DATE-TIME:20120902T030000Z
DTSTAMP;VALUE=DATE-TIME:20260425T011027Z
UID:1e0a7aed2bf14a479a6a16a3cb734435
CATEGORIES:Monthly Run
CONTACT:Stephanie Royds\, info@cmsnz.co.nz
CREATED;VALUE=DATE-TIME:20120625T023746Z
DESCRIPTION:The Classic Motoring Society's normal monthly run\, with a daf
 fodil theme.
LAST-MODIFIED;VALUE=DATE-TIME:20120824T052012Z
LOCATION:Christchurch & local countryside
URL:https://www.cmsnz.org.nz/events/spring-into-september-2012
END:VEVENT
END:VCALENDAR
