BEGIN:VCALENDAR
VERSION:2.0
PRODID:-//Plone.org//NONSGML plone.app.event//EN
X-WR-TIMEZONE:Pacific/Auckland
BEGIN:VEVENT
SUMMARY:Spring Frolic
DTSTART;VALUE=DATE-TIME:20100911T223000Z
DTEND;VALUE=DATE-TIME:20100912T030000Z
DTSTAMP;VALUE=DATE-TIME:20260425T060810Z
UID:8437a7d39d93e899d25ee6206f2c33ea
CATEGORIES:Monthly Run
CONTACT:Mel & Gill Peters\, petersmg@ihug.co.nz
CREATED;VALUE=DATE-TIME:20100511T072213Z
DESCRIPTION:Classics amongst the daffodils?  Or maybe it'll be classics in
  the spring mists?
LAST-MODIFIED;VALUE=DATE-TIME:20100907T042023Z
LOCATION:Christchurch
URL:https://www.cmsnz.org.nz/events/spring-frolic
END:VEVENT
END:VCALENDAR
