BEGIN:VCALENDAR
VERSION:2.0
PRODID:-//Plone.org//NONSGML plone.app.event//EN
X-WR-TIMEZONE:Pacific/Auckland
BEGIN:VEVENT
SUMMARY:Sliding into September 2016
DTSTART;VALUE=DATE-TIME:20160903T220000Z
DTEND;VALUE=DATE-TIME:20160904T040000Z
DTSTAMP;VALUE=DATE-TIME:20260425T011318Z
UID:e91f1d924e624c3c83e584e0c30628dc
CATEGORIES:Monthly Run
CREATED;VALUE=DATE-TIME:20160325T030323Z
DESCRIPTION:Another regular\, first Sunday of the month\, day run with The
  Classic Motoring Society and this time we're celebrating Fathers' Day
LAST-MODIFIED;VALUE=DATE-TIME:20160802T000825Z
LOCATION:Christchurch
URL:https://www.cmsnz.org.nz/events/sliding-into-september-2016
END:VEVENT
END:VCALENDAR
