BEGIN:VCALENDAR
VERSION:2.0
PRODID:-//Plone.org//NONSGML plone.app.event//EN
X-WR-TIMEZONE:Pacific/Auckland
BEGIN:VEVENT
SUMMARY:Skope Classic 2015
DTSTART;VALUE=DATE-TIME:20150205T230000Z
DTEND;VALUE=DATE-TIME:20150208T030000Z
DTSTAMP;VALUE=DATE-TIME:20260425T005227Z
UID:79363f13e1334b19aa2db3e346b6d7e1
CONTACT:http://www.canterburycarclub.co.nz/index.php?option=com_jevents&ta
 sk=icalrepeat.detail&evid=324&Itemid=499&year=2015&month=02&day=06&title=s
 kope-classic-2015&uid=209bde0609db4dcf8e3dfb6d638b0f7c
CREATED;VALUE=DATE-TIME:20150125T211405Z
DESCRIPTION:This is not a Classic Motoring Society event but one we all lo
 ve to attend\, either to participate in ourselves or to watch a massive nu
 mber of classic vehicles hurtle around the track!
LAST-MODIFIED;VALUE=DATE-TIME:20150125T220705Z
LOCATION:Mike Pero Motorsport Park\, Ruapuna
URL:https://www.cmsnz.org.nz/events/skope-classic-2015
END:VEVENT
END:VCALENDAR
