BEGIN:VCALENDAR
VERSION:2.0
PRODID:-//Plone.org//NONSGML plone.app.event//EN
X-WR-TIMEZONE:Pacific/Auckland
BEGIN:VEVENT
SUMMARY:Skope Classic 2014
DTSTART;VALUE=DATE-TIME:20140130T220000Z
DTEND;VALUE=DATE-TIME:20140202T030000Z
DTSTAMP;VALUE=DATE-TIME:20260425T043406Z
UID:c4f74782beaf4d69b25369e29ea9de9f
CONTACT:http://www.canterburycarclub.co.nz
CREATED;VALUE=DATE-TIME:20140109T083421Z
DESCRIPTION:This is NOT a Classic Motoring Society event but is a huge wee
 kend of classic car motorsport and we thoroughly recommend it.
LAST-MODIFIED;VALUE=DATE-TIME:20140217T030902Z
LOCATION:Christchurch
URL:https://www.cmsnz.org.nz/events/skope-classic-2014
END:VEVENT
END:VCALENDAR
