BEGIN:VCALENDAR
VERSION:2.0
PRODID:-//Plone.org//NONSGML plone.app.event//EN
X-WR-TIMEZONE:Pacific/Auckland
BEGIN:VEVENT
SUMMARY:Skope Classic 2013
DTSTART;VALUE=DATE-TIME:20130131T230000Z
DTEND;VALUE=DATE-TIME:20130203T030000Z
DTSTAMP;VALUE=DATE-TIME:20260425T044835Z
UID:09c54cd004ab4c798f055339a7bba5a0
CREATED;VALUE=DATE-TIME:20121205T003356Z
DESCRIPTION:Instead of our first Sunday of the month run\, we'll all be at
  the Skope Classic weekend of classic car racing at Ruapuna. February's mo
 nthly run is next Sunday (10th) instead.
LAST-MODIFIED;VALUE=DATE-TIME:20130124T034448Z
LOCATION:Ruapuna\, Christchurch
URL:https://www.cmsnz.org.nz/events/skope-classic-2013
END:VEVENT
END:VCALENDAR
