BEGIN:VCALENDAR
VERSION:2.0
PRODID:-//Plone.org//NONSGML plone.app.event//EN
X-WR-TIMEZONE:Pacific/Auckland
BEGIN:VEVENT
SUMMARY:Skope Classic 2012
DTSTART;VALUE=DATE-TIME:20120203T203000Z
DTEND;VALUE=DATE-TIME:20120205T030000Z
DTSTAMP;VALUE=DATE-TIME:20260425T043243Z
UID:02e00cd61a3650b79db04ba651e975d8
CREATED;VALUE=DATE-TIME:20120113T033157Z
DESCRIPTION:Obviously this is not a Classic Motoring Society event but its
  an important date in the classic motoring world so we've included it in o
 ur events diary. Go along to it and support the CMSNZ members that will be
  racing.
LAST-MODIFIED;VALUE=DATE-TIME:20120113T033441Z
LOCATION:Ruapuna Park\, Christchurch
URL:https://www.cmsnz.org.nz/events/skope-classic-2012
END:VEVENT
END:VCALENDAR
