BEGIN:VCALENDAR
VERSION:2.0
PRODID:-//Plone.org//NONSGML plone.app.event//EN
X-WR-TIMEZONE:Pacific/Auckland
BEGIN:VEVENT
SUMMARY:Shortest Month Run
DTSTART;VALUE=DATE-TIME:20100205T213000Z
DTEND;VALUE=DATE-TIME:20100206T030000Z
DTSTAMP;VALUE=DATE-TIME:20260425T043331Z
UID:9fc06cffd75cdac1d6e27a21092df90f
CREATED;VALUE=DATE-TIME:20091116T005559Z
LAST-MODIFIED;VALUE=DATE-TIME:20091116T005609Z
LOCATION:Christchurch
URL:https://www.cmsnz.org.nz/events/shortest-month-run
END:VEVENT
END:VCALENDAR
