BEGIN:VCALENDAR
VERSION:2.0
PRODID:-//Plone.org//NONSGML plone.app.event//EN
X-WR-TIMEZONE:Pacific/Auckland
BEGIN:VEVENT
SUMMARY:Winter Solstice Extra!
DTSTART;VALUE=DATE-TIME:20100605T223000Z
DTEND;VALUE=DATE-TIME:20100606T030000Z
DTSTAMP;VALUE=DATE-TIME:20260425T011327Z
UID:cb5e90cf02f3100cd6bcefe2821c6ea5
CATEGORIES:Monthly Run
CREATED;VALUE=DATE-TIME:20100511T064816Z
DESCRIPTION:Even though we have a Shortest Day Run\, we're going to stick 
 to the tried and true format of a run in your classic car on the first Sun
 day of the month.
LAST-MODIFIED;VALUE=DATE-TIME:20100519T020250Z
LOCATION:Christchurch
URL:https://www.cmsnz.org.nz/events/shortest-month-extra
END:VEVENT
END:VCALENDAR
