BEGIN:VCALENDAR
VERSION:2.0
PRODID:-//Plone.org//NONSGML plone.app.event//EN
X-WR-TIMEZONE:Pacific/Auckland
BEGIN:VEVENT
SUMMARY:Shortest Day Run\, 2010
DTSTART;VALUE=DATE-TIME:20100619T223000Z
DTEND;VALUE=DATE-TIME:20100620T020000Z
DTSTAMP;VALUE=DATE-TIME:20260425T011413Z
UID:eab133847641d76ae95e8f3a9a41a157
CATEGORIES:Monthly Run
CONTACT:Graeme Matheson\, (03) 355 4391\, ellenandgraeme-m@clear.net.nz
CREATED;VALUE=DATE-TIME:20100401T023623Z
DESCRIPTION:The Classic Motoring Society's regular\, extremely early morni
 ng\, Shortest Day Run has morphed into a new adventure for 2010!
LAST-MODIFIED;VALUE=DATE-TIME:20100610T044557Z
LOCATION:Christchurch
URL:https://www.cmsnz.org.nz/events/shortest-day-run-2010
END:VEVENT
END:VCALENDAR
