BEGIN:VCALENDAR
VERSION:2.0
PRODID:-//Plone.org//NONSGML plone.app.event//EN
X-WR-TIMEZONE:Pacific/Auckland
BEGIN:VEVENT
SUMMARY:September Gold Card Cruisers
DTSTART;VALUE=DATE-TIME:20130911T223000Z
DTEND;VALUE=DATE-TIME:20130912T030000Z
DTSTAMP;VALUE=DATE-TIME:20260425T062820Z
UID:8af682eb34264769879e3d32097f515a
CATEGORIES:Gold Card Cruisers
CONTACT:Mel & Gill Peters\, petersmg@ihug.co.nz
CREATED;VALUE=DATE-TIME:20130827T035831Z
DESCRIPTION:For those of us that want to get our classic vehicles out duri
 ng the week\, rather than waiting for the next Sunday run!
LAST-MODIFIED;VALUE=DATE-TIME:20130827T042209Z
LOCATION:Christchurch
URL:https://www.cmsnz.org.nz/events/september-gold-card-cruisers
END:VEVENT
END:VCALENDAR
