BEGIN:VCALENDAR
VERSION:2.0
PRODID:-//Plone.org//NONSGML plone.app.event//EN
X-WR-TIMEZONE:Pacific/Auckland
BEGIN:VEVENT
SUMMARY:September Gold Card Cruisers 2014
DTSTART;VALUE=DATE-TIME:20140917T223000Z
DTEND;VALUE=DATE-TIME:20140918T043000Z
DTSTAMP;VALUE=DATE-TIME:20260425T062918Z
UID:652e5ea08db843149c1928e011b05d51
CATEGORIES:Gold Card Cruisers
CREATED;VALUE=DATE-TIME:20140730T043826Z
DESCRIPTION:As usual - the mid week\, mid month\, regular monthly run from
  CMSNZ for those that can skive off work!
LAST-MODIFIED;VALUE=DATE-TIME:20140915T025331Z
LOCATION:Christchurch start
URL:https://www.cmsnz.org.nz/events/september-gold-card-cruisers-2014
END:VEVENT
END:VCALENDAR
