BEGIN:VCALENDAR
VERSION:2.0
PRODID:-//Plone.org//NONSGML plone.app.event//EN
X-WR-TIMEZONE:Pacific/Auckland
BEGIN:VEVENT
SUMMARY:September 2015 Gold Card Cruise
DTSTART;VALUE=DATE-TIME:20150916T223000Z
DTEND;VALUE=DATE-TIME:20150917T033000Z
DTSTAMP;VALUE=DATE-TIME:20260425T005701Z
UID:3fc7bd846676488584d7e4306752992a
CATEGORIES:Gold Card Cruisers
CONTACT:Jim Milne\, 03 366 3060
CREATED;VALUE=DATE-TIME:20150812T052310Z
DESCRIPTION:We're off on another CMSNZ Gold Card Cruise. Come and join us
LAST-MODIFIED;VALUE=DATE-TIME:20150901T233720Z
LOCATION:Christchurch
URL:https://www.cmsnz.org.nz/events/september-2015-gold-card-cruise
END:VEVENT
END:VCALENDAR
