BEGIN:VCALENDAR
VERSION:2.0
PRODID:-//Plone.org//NONSGML plone.app.event//EN
X-WR-TIMEZONE:Pacific/Auckland
BEGIN:VEVENT
SUMMARY:Sauntering into September 2013
DTSTART;VALUE=DATE-TIME:20130831T223000Z
DTEND;VALUE=DATE-TIME:20130901T040000Z
DTSTAMP;VALUE=DATE-TIME:20260425T030050Z
UID:de5b912917844b0092b2a102f94ee7d0
CONTACT:Gill Peters\, 03 337 4144\, petersmg@ihug.co.nz
CREATED;VALUE=DATE-TIME:20130804T042508Z
DESCRIPTION:Regular\, first Sunday of the month run for the CMSNZ
LAST-MODIFIED;VALUE=DATE-TIME:20130827T034851Z
LOCATION:Christchurch
URL:https://www.cmsnz.org.nz/events/sauntering-into-september-2013
END:VEVENT
END:VCALENDAR
