BEGIN:VCALENDAR
VERSION:2.0
PRODID:-//Plone.org//NONSGML plone.app.event//EN
X-WR-TIMEZONE:Pacific/Auckland
BEGIN:VEVENT
SUMMARY:Saab Classics Downunder Weekend 2013
DTSTART;VALUE=DATE-TIME:20130214T200000Z
DTEND;VALUE=DATE-TIME:20130217T030000Z
DTSTAMP;VALUE=DATE-TIME:20260425T043147Z
UID:7f2b5ce798ac465b8fba4418d3c6129e
CONTACT:Graeme Sharp\, 021 395944 or 03 3278991\, info@saabclassics.net\, 
 http://www.csaabclassics.net/
CREATED;VALUE=DATE-TIME:20120805T095611Z
DESCRIPTION:This is NOT a Classic Motoring Society event but we're invited
  to join them on this adventure.
LAST-MODIFIED;VALUE=DATE-TIME:20130124T043617Z
LOCATION:Hamner Springs
URL:https://www.cmsnz.org.nz/events/saab-classics-downunder-weekend-2013
END:VEVENT
END:VCALENDAR
