BEGIN:VCALENDAR
VERSION:2.0
PRODID:-//Plone.org//NONSGML plone.app.event//EN
X-WR-TIMEZONE:Pacific/Auckland
BEGIN:VEVENT
SUMMARY:Ruapuna Track Day 2015
DTSTART;VALUE=DATE-TIME:20150409T210000Z
DTEND;VALUE=DATE-TIME:20150410T050000Z
DTSTAMP;VALUE=DATE-TIME:20260425T011405Z
UID:bb8adb519886417c9c6478fc6d73a442
CONTACT:Barry\, 021 775 300\, boricketts@yahoo.com
CREATED;VALUE=DATE-TIME:20150304T070856Z
DESCRIPTION:This is NOT a Classic Motoring Society event but is available 
 for our members to participate in.
LAST-MODIFIED;VALUE=DATE-TIME:20150304T070923Z
LOCATION:Mike Pero Motorsport Park\, Ruapuna
URL:https://www.cmsnz.org.nz/events/ruapuna-track-day-2015
END:VEVENT
END:VCALENDAR
