BEGIN:VCALENDAR
VERSION:2.0
PRODID:-//Plone.org//NONSGML plone.app.event//EN
X-WR-TIMEZONE:Pacific/Auckland
BEGIN:VEVENT
SUMMARY:Rock & Hop Timaru 
DTSTART;VALUE=DATE-TIME:20170318T090000Z
DTEND;VALUE=DATE-TIME:20170318T170000Z
DTSTAMP;VALUE=DATE-TIME:20260425T005242Z
UID:de71475daa7d4486960f566c3b06c01f
ATTENDEE;CN="Everyone welcome";ROLE=REQ-PARTICIPANT:Everyone welcome
CONTACT:Mel Peters\, 03 261 9166 
CREATED;VALUE=DATE-TIME:20170313T224709Z
DESCRIPTION:Mel is planning to take a group on the Saturday to view the ve
 hicles that will be displayed at Caroline Bay. For those wishing to travel
  together meet at the Rolly Inn Rolleston at 9.00am 
LAST-MODIFIED;VALUE=DATE-TIME:20170313T224722Z
URL:https://www.cmsnz.org.nz/events/rock-hop-timaru
END:VEVENT
END:VCALENDAR
