BEGIN:VCALENDAR
VERSION:2.0
PRODID:-//Plone.org//NONSGML plone.app.event//EN
X-WR-TIMEZONE:Pacific/Auckland
BEGIN:VEVENT
SUMMARY:Queensland Odyssey
DTSTART;VALUE=DATE:20170621
DTEND;VALUE=DATE:20170716
DTSTAMP;VALUE=DATE-TIME:20260425T024019Z
UID:91b7c05e85d146759f658c58a456d485
ATTENDEE;CN="Everyone welcome";ROLE=REQ-PARTICIPANT:Everyone welcome
CONTACT:Graeme Sharp\, 03 327 8991\, sharpish@clear.net.nz
CREATED;VALUE=DATE-TIME:20170320T002258Z
DESCRIPTION:The CMSNZ is going offshore again with another Odyssey in Aust
 ralia
LAST-MODIFIED;VALUE=DATE-TIME:20170321T021301Z
LOCATION:Queensland\, Australia
URL:https://www.cmsnz.org.nz/events/queensland-odyssey
END:VEVENT
END:VCALENDAR
