BEGIN:VCALENDAR
VERSION:2.0
PRODID:-//Plone.org//NONSGML plone.app.event//EN
X-WR-TIMEZONE:Pacific/Auckland
BEGIN:VEVENT
SUMMARY:Queen's Birthday Cruise 2014
DTSTART;VALUE=DATE-TIME:20140531T223000Z
DTEND;VALUE=DATE-TIME:20140601T040000Z
DTSTAMP;VALUE=DATE-TIME:20260425T062853Z
UID:9f0344f28f9e406b9de531fdd3598615
CATEGORIES:Monthly Run
CONTACT:Mel Peters\, petersmg@ihug.co.nz
CREATED;VALUE=DATE-TIME:20140424T022055Z
DESCRIPTION:The CMSNZ usual\, first Sunday of the month run but with a mor
 e regal flair this year!
LAST-MODIFIED;VALUE=DATE-TIME:20140525T220259Z
LOCATION:Christchurch
URL:https://www.cmsnz.org.nz/events/queens-birthday-cruise-2014
END:VEVENT
END:VCALENDAR
