BEGIN:VCALENDAR
VERSION:2.0
PRODID:-//Plone.org//NONSGML plone.app.event//EN
X-WR-TIMEZONE:Pacific/Auckland
BEGIN:VEVENT
SUMMARY:Primo Run 2011
DTSTART;VALUE=DATE-TIME:20110101T213000Z
DTEND;VALUE=DATE-TIME:20110102T030000Z
DTSTAMP;VALUE=DATE-TIME:20260425T030246Z
UID:3a4dc4b0a85114afeeebb02cf5a551d0
CATEGORIES:Monthly Run
CONTACT:info@cmsnz.org.nz
CREATED;VALUE=DATE-TIME:20100727T232204Z
DESCRIPTION:A day run in our classic vehicles out of Christchurch for thos
 e of us that aren't going away on summer holidays this year
LAST-MODIFIED;VALUE=DATE-TIME:20100917T060144Z
LOCATION:Christchurch
URL:https://www.cmsnz.org.nz/events/primo-run-2011
END:VEVENT
END:VCALENDAR
