BEGIN:VCALENDAR
VERSION:2.0
PRODID:-//Plone.org//NONSGML plone.app.event//EN
X-WR-TIMEZONE:Pacific/Auckland
BEGIN:VEVENT
SUMMARY:Peninsula Cruise - 10am start
DTSTART;VALUE=DATE-TIME:20071006T210000Z
DTEND;VALUE=DATE-TIME:20071007T030000Z
DTSTAMP;VALUE=DATE-TIME:20260425T043347Z
UID:b57be286c3292b5950c2a8b7a55b36ce
CONTACT:03-341 3141
CREATED;VALUE=DATE-TIME:20070719T213903Z
DESCRIPTION:Fundraising event and an excuse to show off your classic car\,
  motorbike\, bus\, fire engine\, truck\, hot rod\, race car\, one-off spec
 ial and whatever else you may have stashed in your garage.  If its got whe
 els\, we would love to see it on display in Akaroa.
LAST-MODIFIED;VALUE=DATE-TIME:20080124T010401Z
LOCATION:Akaroa
URL:https://www.cmsnz.org.nz/events/peninsula-cruise
END:VEVENT
END:VCALENDAR
