BEGIN:VCALENDAR
VERSION:2.0
PRODID:-//Plone.org//NONSGML plone.app.event//EN
X-WR-TIMEZONE:Pacific/Auckland
BEGIN:VEVENT
SUMMARY:Out and About in October 2016
DTSTART;VALUE=DATE-TIME:20161001T210000Z
DTEND;VALUE=DATE-TIME:20161002T030000Z
DTSTAMP;VALUE=DATE-TIME:20260425T025219Z
UID:2e69f6ff08e84288854b921dd0d56f20
CATEGORIES:Monthly Run
CREATED;VALUE=DATE-TIME:20160325T030511Z
DESCRIPTION:New month so it must be time for the CMSNZ's regular\, first S
 unday of the month\, day run
LAST-MODIFIED;VALUE=DATE-TIME:20160325T030522Z
LOCATION:Christchurch
URL:https://www.cmsnz.org.nz/events/out-and-about-in-october-2016
END:VEVENT
END:VCALENDAR
