BEGIN:VCALENDAR
VERSION:2.0
PRODID:-//Plone.org//NONSGML plone.app.event//EN
X-WR-TIMEZONE:Pacific/Auckland
BEGIN:VEVENT
SUMMARY:Out & About in October 2015
DTSTART;VALUE=DATE-TIME:20151003T210000Z
DTEND;VALUE=DATE-TIME:20151004T030000Z
DTSTAMP;VALUE=DATE-TIME:20260425T044930Z
UID:55f25fc798cf49789d35fd641ab5a3fa
CATEGORIES:Monthly Run
CONTACT:Julian Barrett\, 03 359 1100\, jkbarrett@clear.net.nz
CREATED;VALUE=DATE-TIME:20150901T234301Z
DESCRIPTION:Regular\, first Sunday of the month run organised by CMSNZ. An
 ybody can come along in their classic vehicle and explore the countryside 
 in good company
LAST-MODIFIED;VALUE=DATE-TIME:20150901T234347Z
LOCATION:Christchurch
URL:https://www.cmsnz.org.nz/events/out-about-in-october-2015
END:VEVENT
END:VCALENDAR
