BEGIN:VCALENDAR
VERSION:2.0
PRODID:-//Plone.org//NONSGML plone.app.event//EN
X-WR-TIMEZONE:Pacific/Auckland
BEGIN:VEVENT
SUMMARY:Onward into October
DTSTART;VALUE=DATE-TIME:20131005T213000Z
DTEND;VALUE=DATE-TIME:20131006T030000Z
DTSTAMP;VALUE=DATE-TIME:20260425T060935Z
UID:d3865e643f2e4e68b84120c3c655974d
CONTACT:Mel Peters\, 03 337 4144\, petersmg@ihug.co.nz
CREATED;VALUE=DATE-TIME:20130804T043526Z
DESCRIPTION:The Classic Motoring Society's regular\, first Sunday of the m
 onth run
LAST-MODIFIED;VALUE=DATE-TIME:20131004T025822Z
LOCATION:Christchurch
URL:https://www.cmsnz.org.nz/events/onward-into-october
END:VEVENT
END:VCALENDAR
