BEGIN:VCALENDAR
VERSION:2.0
PRODID:-//Plone.org//NONSGML plone.app.event//EN
X-WR-TIMEZONE:Pacific/Auckland
BEGIN:VEVENT
SUMMARY:South Australian Odyssey 2012
DTSTART;VALUE=DATE-TIME:20120925T210000Z
DTEND;VALUE=DATE-TIME:20121007T090000Z
DTSTAMP;VALUE=DATE-TIME:20260425T025318Z
UID:29e3d7e6a6dd9c60cec26178b274e8e4
CATEGORIES:Odyssey
CONTACT:info@cmsnz.co.nz
CREATED;VALUE=DATE-TIME:20101129T220009Z
DESCRIPTION:The Classic Motoring Society of New Zealand is venturing offsh
 ore again\, this time to our closest neighbours - Australia. Once again we
 're being partnered by the Macedon Ranges and District Motor Club.
LAST-MODIFIED;VALUE=DATE-TIME:20120427T060729Z
LOCATION:South Australia
URL:https://www.cmsnz.org.nz/events/odyssey-2012
END:VEVENT
END:VCALENDAR
