BEGIN:VCALENDAR
VERSION:2.0
PRODID:-//Plone.org//NONSGML plone.app.event//EN
X-WR-TIMEZONE:Pacific/Auckland
BEGIN:VEVENT
SUMMARY:Ode to October 2012
DTSTART;VALUE=DATE-TIME:20121006T213000Z
DTEND;VALUE=DATE-TIME:20121007T030000Z
DTSTAMP;VALUE=DATE-TIME:20260425T025857Z
UID:123de4e4432a442688b3ed0dc1d63715
CATEGORIES:Monthly Run
CREATED;VALUE=DATE-TIME:20120805T092945Z
DESCRIPTION:Classic Motoring Society's regular monthly run
LAST-MODIFIED;VALUE=DATE-TIME:20120906T213115Z
LOCATION:Christchurch & Canterbury
URL:https://www.cmsnz.org.nz/events/ode-to-october-2012
END:VEVENT
END:VCALENDAR
