BEGIN:VCALENDAR
VERSION:2.0
PRODID:-//Plone.org//NONSGML plone.app.event//EN
X-WR-TIMEZONE:Pacific/Auckland
BEGIN:VEVENT
SUMMARY:October Outing\, 2011
DTSTART;VALUE=DATE-TIME:20111001T213000Z
DTEND;VALUE=DATE-TIME:20111002T030000Z
DTSTAMP;VALUE=DATE-TIME:20260425T043401Z
UID:047857f33c2e2b0d56713855a21bc6e0
CATEGORIES:Monthly Run
CONTACT:Mel Peters\, 03-337 4144\, petersmg@ihug.co.nz
CREATED;VALUE=DATE-TIME:20110828T234755Z
DESCRIPTION:The CMSNZ regular monthly run\, this time with a country theme
 .
LAST-MODIFIED;VALUE=DATE-TIME:20110828T235014Z
LOCATION:Canterbury
URL:https://www.cmsnz.org.nz/events/october-outing-2011
END:VEVENT
END:VCALENDAR
