BEGIN:VCALENDAR
VERSION:2.0
PRODID:-//Plone.org//NONSGML plone.app.event//EN
X-WR-TIMEZONE:Pacific/Auckland
BEGIN:VEVENT
SUMMARY:October Ogdoad* 2014 - please note change of start time
DTSTART;VALUE=DATE-TIME:20141004T210000Z
DTEND;VALUE=DATE-TIME:20141005T033000Z
DTSTAMP;VALUE=DATE-TIME:20260425T053519Z
UID:e464275b168f4e5a98e98d30248bb472
CONTACT:Mel & Gill Peters\, petersmg@ihug.co.nz
CREATED;VALUE=DATE-TIME:20140915T003301Z
DESCRIPTION:The Classic Motoring Society of NZ's regular\, first Sunday of
  the month\, day run. All welcome
LAST-MODIFIED;VALUE=DATE-TIME:20140915T003314Z
LOCATION:Christchurch
URL:https://www.cmsnz.org.nz/events/october-ogdoad-2014-please-note-change
 -of-start-time
END:VEVENT
END:VCALENDAR
