BEGIN:VCALENDAR
VERSION:2.0
PRODID:-//Plone.org//NONSGML plone.app.event//EN
X-WR-TIMEZONE:Pacific/Auckland
BEGIN:VEVENT
SUMMARY:October Gold Card Cruisers 2014
DTSTART;VALUE=DATE-TIME:20141017T213000Z
DTEND;VALUE=DATE-TIME:20141018T030000Z
DTSTAMP;VALUE=DATE-TIME:20260425T005913Z
UID:b15cee1fe1dd4bc9b5a0b10aa8b8c417
CONTACT:Mel & Gill Peters\, 03 337 4144\, petersmg@ihug.co.nz
CREATED;VALUE=DATE-TIME:20140915T022439Z
DESCRIPTION:Regular mid-week\, mid-month day run from the Classic Motoring
  Society of NZ
LAST-MODIFIED;VALUE=DATE-TIME:20140915T022446Z
URL:https://www.cmsnz.org.nz/events/october-gold-card-cruisers-2014
END:VEVENT
END:VCALENDAR
