BEGIN:VCALENDAR
VERSION:2.0
PRODID:-//Plone.org//NONSGML plone.app.event//EN
X-WR-TIMEZONE:Pacific/Auckland
BEGIN:VEVENT
SUMMARY:Oct Gold Card Cruisers
DTSTART;VALUE=DATE-TIME:20131017T213000Z
DTEND;VALUE=DATE-TIME:20131018T030000Z
DTSTAMP;VALUE=DATE-TIME:20260425T045509Z
UID:1b9c5a1de89e4cd19168d1af49854a0e
CONTACT:Jim Milne
CREATED;VALUE=DATE-TIME:20131004T031656Z
LAST-MODIFIED;VALUE=DATE-TIME:20131004T031656Z
LOCATION:Christchurch
URL:https://www.cmsnz.org.nz/events/oct-gold-card-cruisers
END:VEVENT
END:VCALENDAR
