BEGIN:VCALENDAR
VERSION:2.0
PRODID:-//Plone.org//NONSGML plone.app.event//EN
X-WR-TIMEZONE:Pacific/Auckland
BEGIN:VEVENT
SUMMARY:NSW Odyssey\, 2015
DTSTART;VALUE=DATE-TIME:20130919T210000Z
DTEND;VALUE=DATE-TIME:20131010T030000Z
DTSTAMP;VALUE=DATE-TIME:20260425T030510Z
UID:dbb106ca00914f0195c192f574bf5346
CATEGORIES:Odyssey
CONTACT:Graeme Sharp\, 021 395 944\, sharpish@clear.net.nz
CREATED;VALUE=DATE-TIME:20131024T220521Z
DESCRIPTION:The CMSNZ is off to Australia again\, but not until 2015. The 
 dates shown are NOT correct at this stage\, they're just an indication.
LAST-MODIFIED;VALUE=DATE-TIME:20131024T221458Z
LOCATION:NSW\, Australia
URL:https://www.cmsnz.org.nz/events/nsw-odyssey-2015
END:VEVENT
END:VCALENDAR
